BEGIN:VCALENDAR
VERSION:2.0
PRODID:-//ARMA: Auburn Regional Media Access - ECPv6.15.17.1//NONSGML v1.0//EN
CALSCALE:GREGORIAN
METHOD:PUBLISH
X-WR-CALNAME:ARMA: Auburn Regional Media Access
X-ORIGINAL-URL:https://armatv.org
X-WR-CALDESC:Events for ARMA: Auburn Regional Media Access
REFRESH-INTERVAL;VALUE=DURATION:PT1H
X-Robots-Tag:noindex
X-PUBLISHED-TTL:PT1H
BEGIN:VTIMEZONE
TZID:America/New_York
BEGIN:DAYLIGHT
TZOFFSETFROM:-0500
TZOFFSETTO:-0400
TZNAME:EDT
DTSTART:20240310T070000
END:DAYLIGHT
BEGIN:STANDARD
TZOFFSETFROM:-0400
TZOFFSETTO:-0500
TZNAME:EST
DTSTART:20241103T060000
END:STANDARD
BEGIN:DAYLIGHT
TZOFFSETFROM:-0500
TZOFFSETTO:-0400
TZNAME:EDT
DTSTART:20250309T070000
END:DAYLIGHT
BEGIN:STANDARD
TZOFFSETFROM:-0400
TZOFFSETTO:-0500
TZNAME:EST
DTSTART:20251102T060000
END:STANDARD
BEGIN:DAYLIGHT
TZOFFSETFROM:-0500
TZOFFSETTO:-0400
TZNAME:EDT
DTSTART:20260308T070000
END:DAYLIGHT
BEGIN:STANDARD
TZOFFSETFROM:-0400
TZOFFSETTO:-0500
TZNAME:EST
DTSTART:20261101T060000
END:STANDARD
BEGIN:DAYLIGHT
TZOFFSETFROM:-0500
TZOFFSETTO:-0400
TZNAME:EDT
DTSTART:20270314T070000
END:DAYLIGHT
BEGIN:STANDARD
TZOFFSETFROM:-0400
TZOFFSETTO:-0500
TZNAME:EST
DTSTART:20271107T060000
END:STANDARD
END:VTIMEZONE
BEGIN:VEVENT
DTSTART;VALUE=DATE:20260222
DTEND;VALUE=DATE:20260223
DTSTAMP:20260423T172903
CREATED:20260206T183345Z
LAST-MODIFIED:20260206T183345Z
UID:1551-1771718400-1771804799@armatv.org
SUMMARY:FE-BREW-ARY at Aurora Brewing Co
DESCRIPTION:
URL:https://armatv.org/event/fe-brew-ary-at-aurora-brewing-co/
LOCATION:Aurora Brewing Co\, 1897 State Route 90 N\, King Ferry\, NY\, 13081\, United States
ATTACH;FMTTYPE=image/jpeg:https://armatv.org/wp-content/uploads/2026/02/FE-BREW-ARY-Aurora-Brewing-Co.jpg
END:VEVENT
BEGIN:VEVENT
DTSTART;VALUE=DATE:20260221
DTEND;VALUE=DATE:20260222
DTSTAMP:20260423T172903
CREATED:20260206T183938Z
LAST-MODIFIED:20260206T183938Z
UID:1563-1771632000-1771718399@armatv.org
SUMMARY:FE-BREW-ARY at Sterling Cidery
DESCRIPTION:
URL:https://armatv.org/event/fe-brew-ary-at-sterling-cidery/
LOCATION:Sterling Cidery\, 14451 Richmond Ave\, Sterling\, NY\, 13156\, United States
ATTACH;FMTTYPE=image/jpeg:https://armatv.org/wp-content/uploads/2026/02/FE-BREW-ARY-Sterling-Cidery.jpg
END:VEVENT
BEGIN:VEVENT
DTSTART;TZID=America/New_York:20260219T180000
DTEND;TZID=America/New_York:20260219T190000
DTSTAMP:20260423T172903
CREATED:20260206T184529Z
LAST-MODIFIED:20260206T184529Z
UID:1567-1771524000-1771527600@armatv.org
SUMMARY:Ward O'Hara Ag Museum: Harvesting History Series
DESCRIPTION:
URL:https://armatv.org/event/ward-ohara-ag-museum-harvesting-history-series/
LOCATION:Ward O’Hara Ag Museum\, 6880 NY-38A\, Auburn\, NY\, 13021\, United States
END:VEVENT
BEGIN:VEVENT
DTSTART;TZID=America/New_York:20260219T110000
DTEND;TZID=America/New_York:20260219T120000
DTSTAMP:20260423T172903
CREATED:20260206T172042Z
LAST-MODIFIED:20260206T172042Z
UID:1464-1771498800-1771502400@armatv.org
SUMMARY:Beginners Knitting at Seymour Library
DESCRIPTION:
URL:https://armatv.org/event/beginners-knitting-at-seymour-library/
LOCATION:Seymour Library\, 176 Genesee St\, Auburn\, NY\, 13021
ATTACH;FMTTYPE=image/png:https://armatv.org/wp-content/uploads/2026/02/Beginners-Knitting-for-Digital-TV.png
END:VEVENT
BEGIN:VEVENT
DTSTART;TZID=America/New_York:20260214T100000
DTEND;TZID=America/New_York:20260214T110000
DTSTAMP:20260423T172903
CREATED:20260206T175325Z
LAST-MODIFIED:20260206T175325Z
UID:1518-1771063200-1771066800@armatv.org
SUMMARY:Saturday Storytime
DESCRIPTION:
URL:https://armatv.org/event/saturday-storytime-2/
LOCATION:Seymour Library\, 176 Genesee St\, Auburn\, NY\, 13021
ATTACH;FMTTYPE=image/png:https://armatv.org/wp-content/uploads/2026/02/Saturday-Storytime-Feb-April-.png
END:VEVENT
BEGIN:VEVENT
DTSTART;VALUE=DATE:20260214
DTEND;VALUE=DATE:20260215
DTSTAMP:20260423T172903
CREATED:20260206T183554Z
LAST-MODIFIED:20260206T183554Z
UID:1555-1771027200-1771113599@armatv.org
SUMMARY:FE-BREW-ARY at Highland Park Golf Club
DESCRIPTION:
URL:https://armatv.org/event/fe-brew-ary-at-highland-park-golf-club/
LOCATION:Highland Park Golf Club\, 3068 Franklin St\, Auburn\, NY\, 13021\, United States
ATTACH;FMTTYPE=image/jpeg:https://armatv.org/wp-content/uploads/2026/02/FE-BREW-ARY-Highland-Park-Golf-Club.jpg
END:VEVENT
BEGIN:VEVENT
DTSTART;TZID=America/New_York:20260212T110000
DTEND;TZID=America/New_York:20260212T120000
DTSTAMP:20260423T172903
CREATED:20260206T171915Z
LAST-MODIFIED:20260206T171934Z
UID:1460-1770894000-1770897600@armatv.org
SUMMARY:Beginners Knitting at Seymour Library
DESCRIPTION:
URL:https://armatv.org/event/beginners-knitting/
LOCATION:Seymour Library\, 176 Genesee St\, Auburn\, NY\, 13021
ATTACH;FMTTYPE=image/png:https://armatv.org/wp-content/uploads/2026/02/Beginners-Knitting-for-Digital-TV.png
END:VEVENT
BEGIN:VEVENT
DTSTART;TZID=America/New_York:20260211T160000
DTEND;TZID=America/New_York:20260211T170000
DTSTAMP:20260423T172903
CREATED:20260206T175731Z
LAST-MODIFIED:20260206T175731Z
UID:1525-1770825600-1770829200@armatv.org
SUMMARY:Tales With Trevor
DESCRIPTION:
URL:https://armatv.org/event/tales-with-trevor-2/
LOCATION:Seymour Library\, 176 Genesee St\, Auburn\, NY\, 13021
ATTACH;FMTTYPE=image/png:https://armatv.org/wp-content/uploads/2026/02/Tales-with-Trevor-Feb-Mar-April.png
END:VEVENT
BEGIN:VEVENT
DTSTART;VALUE=DATE:20260207
DTEND;VALUE=DATE:20260208
DTSTAMP:20260423T172903
CREATED:20260206T183750Z
LAST-MODIFIED:20260206T183750Z
UID:1559-1770422400-1770508799@armatv.org
SUMMARY:FE-BREW-ARY at RISEFORM Brewing Co
DESCRIPTION:
URL:https://armatv.org/event/fe-brew-ary-at-riseform-brewing-co/
LOCATION:RISEFORM Brewing Co\, 19 North St\, Marcellus\, NY\, 13108\, United States
ATTACH;FMTTYPE=image/jpeg:https://armatv.org/wp-content/uploads/2026/02/FE-BREW-ARY-RISEFORM.jpg
END:VEVENT
BEGIN:VEVENT
DTSTART;TZID=America/New_York:20260206T100000
DTEND;TZID=America/New_York:20260206T220000
DTSTAMP:20260423T172903
CREATED:20260206T183054Z
LAST-MODIFIED:20260206T183054Z
UID:1547-1770372000-1770415200@armatv.org
SUMMARY:FE-BREW-ARY at 10-10 BBQ
DESCRIPTION:
URL:https://armatv.org/event/fe-brew-ary-at-10-10-bbq/
LOCATION:10-10 BBQ\, 5 Adams St\, Moravia\, NY\, 13118\, United States
ATTACH;FMTTYPE=image/jpeg:https://armatv.org/wp-content/uploads/2026/02/FE-BREW-ARY-10-10-BBQ.jpg
END:VEVENT
BEGIN:VEVENT
DTSTART;VALUE=DATE:20260201
DTEND;VALUE=DATE:20260301
DTSTAMP:20260423T172903
CREATED:20260206T182609Z
LAST-MODIFIED:20260206T182609Z
UID:1544-1769904000-1772323199@armatv.org
SUMMARY:FE-BREW-ARY
DESCRIPTION:
URL:https://armatv.org/event/fe-brew-ary/
LOCATION:NY
ATTACH;FMTTYPE=image/jpeg:https://armatv.org/wp-content/uploads/2026/02/FE-BREW-ARY-Combgrown-Mead-Cellar-Folley.jpg
END:VEVENT
BEGIN:VEVENT
DTSTART;TZID=America/New_York:20251230T090000
DTEND;TZID=America/New_York:20251230T130000
DTSTAMP:20260423T172903
CREATED:20251124T165705Z
LAST-MODIFIED:20251124T165705Z
UID:1340-1767085200-1767099600@armatv.org
SUMMARY:Seymour Library Drop In Crafts
DESCRIPTION:
URL:https://armatv.org/event/seymour-library-drop-in-crafts-2/
LOCATION:Seymour Library\, 176 Genesee St\, Auburn\, NY\, 13021
END:VEVENT
BEGIN:VEVENT
DTSTART;TZID=America/New_York:20251229T090000
DTEND;TZID=America/New_York:20251229T130000
DTSTAMP:20260423T172903
CREATED:20251124T165548Z
LAST-MODIFIED:20251124T165730Z
UID:1337-1766998800-1767013200@armatv.org
SUMMARY:Seymour Library Drop In Crafts
DESCRIPTION:
URL:https://armatv.org/event/seymour-library-drop-in-crafts/
LOCATION:Seymour Library\, 176 Genesee St\, Auburn\, NY\, 13021
END:VEVENT
BEGIN:VEVENT
DTSTART;TZID=America/New_York:20251222T090000
DTEND;TZID=America/New_York:20251222T130000
DTSTAMP:20260423T172903
CREATED:20251105T205011Z
LAST-MODIFIED:20251105T205011Z
UID:1312-1766394000-1766408400@armatv.org
SUMMARY:Seymour Library Drop in STEAM
DESCRIPTION:
URL:https://armatv.org/event/seymour-library-drop-in-steam/
LOCATION:Seymour Library\, 176 Genesee St\, Auburn\, NY\, 13021
END:VEVENT
BEGIN:VEVENT
DTSTART;TZID=America/New_York:20251221T140000
DTEND;TZID=America/New_York:20251221T150000
DTSTAMP:20260423T172903
CREATED:20251205T163725Z
LAST-MODIFIED:20251205T163725Z
UID:1376-1766325600-1766329200@armatv.org
SUMMARY:Celina Rescott Holiday Concert at Willard Chapel
DESCRIPTION:
URL:https://armatv.org/event/celina-rescott-holiday-concert-at-willard-chapel/
LOCATION:Willard Memorial Chapel\, 17 Nelson St\, Auburn\, NY\, United States
END:VEVENT
BEGIN:VEVENT
DTSTART;TZID=America/New_York:20251216T160000
DTEND;TZID=America/New_York:20251216T180000
DTSTAMP:20260423T172903
CREATED:20251124T170233Z
LAST-MODIFIED:20251124T170233Z
UID:1348-1765900800-1765908000@armatv.org
SUMMARY:Seymour Library Pokémon Club
DESCRIPTION:
URL:https://armatv.org/event/seymour-library-pokemon-club-3/
LOCATION:Seymour Library\, 176 Genesee St\, Auburn\, NY\, 13021
ATTACH;FMTTYPE=image/png:https://armatv.org/wp-content/uploads/2025/11/Pokemon-Club-NOV-2025-1.png
END:VEVENT
BEGIN:VEVENT
DTSTART;TZID=America/New_York:20251216T160000
DTEND;TZID=America/New_York:20251216T170000
DTSTAMP:20260423T172903
CREATED:20251124T165926Z
LAST-MODIFIED:20251124T165926Z
UID:1342-1765900800-1765904400@armatv.org
SUMMARY:Why is Jane Austin so Popular?
DESCRIPTION:
URL:https://armatv.org/event/why-is-jane-austin-so-popular/
LOCATION:Seymour Library\, 176 Genesee St\, Auburn\, NY\, 13021
ATTACH;FMTTYPE=image/jpeg:https://armatv.org/wp-content/uploads/2025/11/Jane-Austen-Program-at-Seymour-Library.jpg
END:VEVENT
BEGIN:VEVENT
DTSTART;TZID=America/New_York:20251215T170000
DTEND;TZID=America/New_York:20251215T180000
DTSTAMP:20260423T172903
CREATED:20251124T170041Z
LAST-MODIFIED:20251124T170041Z
UID:1345-1765818000-1765821600@armatv.org
SUMMARY:LEGO Club: The Gingerbread Baby
DESCRIPTION:
URL:https://armatv.org/event/lego-club-the-gingerbread-baby/
LOCATION:Seymour Library\, 176 Genesee St\, Auburn\, NY\, 13021
ATTACH;FMTTYPE=image/png:https://armatv.org/wp-content/uploads/2025/11/LEGO-CLUB-The-gingerbread-baby-3.png
END:VEVENT
BEGIN:VEVENT
DTSTART;TZID=America/New_York:20251214T120000
DTEND;TZID=America/New_York:20251214T160000
DTSTAMP:20260423T172903
CREATED:20251203T183816Z
LAST-MODIFIED:20251203T183816Z
UID:1372-1765713600-1765728000@armatv.org
SUMMARY:Holiday Traditions Open House
DESCRIPTION:
URL:https://armatv.org/event/holiday-traditions-open-house/
LOCATION:Willard Memorial Chapel\, 17 Nelson St\, Auburn\, NY\, United States
END:VEVENT
BEGIN:VEVENT
DTSTART;TZID=America/New_York:20251214T100000
DTEND;TZID=America/New_York:20251214T190000
DTSTAMP:20260423T172903
CREATED:20251203T193645Z
LAST-MODIFIED:20251203T193645Z
UID:1374-1765706400-1765738800@armatv.org
SUMMARY:Ward O'Hara Christmas Open House
DESCRIPTION:
URL:https://armatv.org/event/ward-ohara-christmas-open-house/
LOCATION:Ward O’Hara Ag Museum\, 6880 NY-38A\, Auburn\, NY\, 13021\, United States
END:VEVENT
BEGIN:VEVENT
DTSTART;TZID=America/New_York:20251213T180000
DTEND;TZID=America/New_York:20251213T210000
DTSTAMP:20260423T172903
CREATED:20251201T154858Z
LAST-MODIFIED:20251201T154858Z
UID:1369-1765648800-1765659600@armatv.org
SUMMARY:Drive Thru Living Nativity
DESCRIPTION:
URL:https://armatv.org/event/drive-thru-living-nativity/
LOCATION:Auburn Alliance Church\, 603 N Seward Ave\, Auburn\, NY\, 13021\, United States
END:VEVENT
BEGIN:VEVENT
DTSTART;TZID=America/New_York:20251213T130000
DTEND;TZID=America/New_York:20251213T140000
DTSTAMP:20260423T172903
CREATED:20251124T170406Z
LAST-MODIFIED:20251124T170406Z
UID:1351-1765630800-1765634400@armatv.org
SUMMARY:Seymour Library Saturday STEAM: The Gingerbread Man
DESCRIPTION:
URL:https://armatv.org/event/seymour-library-saturday-steam-the-gingerbread-man/
LOCATION:Seymour Library\, 176 Genesee St\, Auburn\, NY\, 13021
ATTACH;FMTTYPE=image/png:https://armatv.org/wp-content/uploads/2025/11/SATURDAY-STEAM-Balloon-Parade-3.png
END:VEVENT
BEGIN:VEVENT
DTSTART;TZID=America/New_York:20251213T120000
DTEND;TZID=America/New_York:20251213T130000
DTSTAMP:20260423T172903
CREATED:20251124T170846Z
LAST-MODIFIED:20251124T170846Z
UID:1360-1765627200-1765630800@armatv.org
SUMMARY:Wreaths Across America Ceremony
DESCRIPTION:
URL:https://armatv.org/event/wreaths-across-america-ceremony/
LOCATION:The Episcopal Church of Ss Peter & John\, 169 Genesee St\, Auburn\, NY\, 13021\, United States
END:VEVENT
BEGIN:VEVENT
DTSTART;TZID=America/New_York:20251213T100000
DTEND;TZID=America/New_York:20251213T110000
DTSTAMP:20260423T172903
CREATED:20251124T170502Z
LAST-MODIFIED:20251124T170502Z
UID:1354-1765620000-1765623600@armatv.org
SUMMARY:Seymour Library Saturday Storytime
DESCRIPTION:
URL:https://armatv.org/event/seymour-library-saturday-storytime-2/
LOCATION:Seymour Library\, 176 Genesee St\, Auburn\, NY\, 13021
END:VEVENT
BEGIN:VEVENT
DTSTART;TZID=America/New_York:20251211T140000
DTEND;TZID=America/New_York:20251211T150000
DTSTAMP:20260423T172903
CREATED:20251105T204809Z
LAST-MODIFIED:20251105T204809Z
UID:1310-1765461600-1765465200@armatv.org
SUMMARY:Meditation with Joe Sarnicola
DESCRIPTION:
URL:https://armatv.org/event/meditation-with-joe-sarnicola-2/
LOCATION:Seymour Library\, 176 Genesee St\, Auburn\, NY\, 13021
END:VEVENT
BEGIN:VEVENT
DTSTART;TZID=America/New_York:20251211T100000
DTEND;TZID=America/New_York:20251211T120000
DTSTAMP:20260423T172903
CREATED:20251006T201909Z
LAST-MODIFIED:20251006T201909Z
UID:1264-1765447200-1765454400@armatv.org
SUMMARY:Free Medicare 101 Classes
DESCRIPTION:
URL:https://armatv.org/event/free-medicare-101-classes-3/
LOCATION:NY
END:VEVENT
BEGIN:VEVENT
DTSTART;TZID=America/New_York:20251210T160000
DTEND;TZID=America/New_York:20251210T170000
DTSTAMP:20260423T172903
CREATED:20251124T170607Z
LAST-MODIFIED:20251124T170607Z
UID:1357-1765382400-1765386000@armatv.org
SUMMARY:Seymour Library Tales with Trevor
DESCRIPTION:
URL:https://armatv.org/event/seymour-library-tales-with-trevor/
LOCATION:Seymour Library\, 176 Genesee St\, Auburn\, NY\, 13021
END:VEVENT
BEGIN:VEVENT
DTSTART;TZID=America/New_York:20251206T090000
DTEND;TZID=America/New_York:20251206T140000
DTSTAMP:20260423T172903
CREATED:20251201T154743Z
LAST-MODIFIED:20251201T154743Z
UID:1366-1765011600-1765029600@armatv.org
SUMMARY:Artisan Craft Fair
DESCRIPTION:
URL:https://armatv.org/event/artisan-craft-fair/
LOCATION:Auburn Alliance Church\, 603 N Seward Ave\, Auburn\, NY\, 13021\, United States
END:VEVENT
BEGIN:VEVENT
DTSTART;TZID=America/New_York:20251124T180000
DTEND;TZID=America/New_York:20251124T190000
DTSTAMP:20260423T172903
CREATED:20251105T194145Z
LAST-MODIFIED:20251105T194145Z
UID:1286-1764007200-1764010800@armatv.org
SUMMARY:Healing & Hardcovers
DESCRIPTION:
URL:https://armatv.org/event/healing-hardcovers/
LOCATION:Seymour Library\, 176 Genesee St\, Auburn\, NY\, 13021
END:VEVENT
BEGIN:VEVENT
DTSTART;TZID=America/New_York:20251118T160000
DTEND;TZID=America/New_York:20251118T170000
DTSTAMP:20260423T172903
CREATED:20251105T194008Z
LAST-MODIFIED:20251105T194008Z
UID:1283-1763481600-1763485200@armatv.org
SUMMARY:ARMA Media Made by You
DESCRIPTION:
URL:https://armatv.org/event/arma-media-made-by-you/
LOCATION:Seymour Library\, 176 Genesee St\, Auburn\, NY\, 13021
END:VEVENT
END:VCALENDAR