BEGIN:VCALENDAR
VERSION:2.0
PRODID:-//ARMA: Auburn Regional Media Access - ECPv6.15.17.1//NONSGML v1.0//EN
CALSCALE:GREGORIAN
METHOD:PUBLISH
X-WR-CALNAME:ARMA: Auburn Regional Media Access
X-ORIGINAL-URL:https://armatv.org
X-WR-CALDESC:Events for ARMA: Auburn Regional Media Access
REFRESH-INTERVAL;VALUE=DURATION:PT1H
X-Robots-Tag:noindex
X-PUBLISHED-TTL:PT1H
BEGIN:VTIMEZONE
TZID:America/New_York
BEGIN:DAYLIGHT
TZOFFSETFROM:-0500
TZOFFSETTO:-0400
TZNAME:EDT
DTSTART:20250309T070000
END:DAYLIGHT
BEGIN:STANDARD
TZOFFSETFROM:-0400
TZOFFSETTO:-0500
TZNAME:EST
DTSTART:20251102T060000
END:STANDARD
BEGIN:DAYLIGHT
TZOFFSETFROM:-0500
TZOFFSETTO:-0400
TZNAME:EDT
DTSTART:20260308T070000
END:DAYLIGHT
BEGIN:STANDARD
TZOFFSETFROM:-0400
TZOFFSETTO:-0500
TZNAME:EST
DTSTART:20261101T060000
END:STANDARD
BEGIN:DAYLIGHT
TZOFFSETFROM:-0500
TZOFFSETTO:-0400
TZNAME:EDT
DTSTART:20270314T070000
END:DAYLIGHT
BEGIN:STANDARD
TZOFFSETFROM:-0400
TZOFFSETTO:-0500
TZNAME:EST
DTSTART:20271107T060000
END:STANDARD
END:VTIMEZONE
BEGIN:VEVENT
DTSTART;TZID=America/New_York:20260411T100000
DTEND;TZID=America/New_York:20260411T110000
DTSTAMP:20260423T184552
CREATED:20260206T175530Z
LAST-MODIFIED:20260206T175530Z
UID:1523-1775901600-1775905200@armatv.org
SUMMARY:Saturday Storytime
DESCRIPTION:Victory farm volunteers during World War II Karen Weissman\, PHD   All programs are open to the public Free admission and parking Refreshments served Donation Appreciated
URL:https://armatv.org/event/saturday-storytime-4/
LOCATION:Seymour Library\, 176 Genesee St\, Auburn\, NY\, 13021
ATTACH;FMTTYPE=image/png:https://armatv.org/wp-content/uploads/2026/02/Saturday-Storytime-Feb-April-.png
END:VEVENT
BEGIN:VEVENT
DTSTART;TZID=America/New_York:20260409T140000
DTEND;TZID=America/New_York:20260409T150000
DTSTAMP:20260423T184552
CREATED:20260206T174639Z
LAST-MODIFIED:20260206T174639Z
UID:1505-1775743200-1775746800@armatv.org
SUMMARY:Meditation With Joe Sarnicola
DESCRIPTION:Victory farm volunteers during World War II Karen Weissman\, PHD   All programs are open to the public Free admission and parking Refreshments served Donation Appreciated
URL:https://armatv.org/event/meditation-with-joe-sarnicola-5/
LOCATION:Seymour Library\, 176 Genesee St\, Auburn\, NY\, 13021
ATTACH;FMTTYPE=image/png:https://armatv.org/wp-content/uploads/2026/02/Meditation-with-Joe-Sarnicola-2026-1.png
END:VEVENT
BEGIN:VEVENT
DTSTART;TZID=America/New_York:20260408T170000
DTEND;TZID=America/New_York:20260408T210000
DTSTAMP:20260423T184552
CREATED:20260304T170645Z
LAST-MODIFIED:20260304T190016Z
UID:1602-1775667600-1775682000@armatv.org
SUMMARY:United Way Campaign & Community Pizza Night
DESCRIPTION:Victory farm volunteers during World War II Karen Weissman\, PHD   All programs are open to the public Free admission and parking Refreshments served Donation Appreciated
URL:https://armatv.org/event/united-way-campaign-community-pizza-night/
LOCATION:Auburn YMCA-WEIU\, 27 William St\, Auburn\, NY\, 13021\, United States
END:VEVENT
BEGIN:VEVENT
DTSTART;TZID=America/New_York:20260408T160000
DTEND;TZID=America/New_York:20260408T170000
DTSTAMP:20260423T184552
CREATED:20260206T181539Z
LAST-MODIFIED:20260206T181539Z
UID:1532-1775664000-1775667600@armatv.org
SUMMARY:Tales With Trevor
DESCRIPTION:Victory farm volunteers during World War II Karen Weissman\, PHD   All programs are open to the public Free admission and parking Refreshments served Donation Appreciated
URL:https://armatv.org/event/tales-with-trevor-5/
LOCATION:Seymour Library\, 176 Genesee St\, Auburn\, NY\, 13021
ATTACH;FMTTYPE=image/png:https://armatv.org/wp-content/uploads/2026/02/Tales-with-Trevor-Feb-Mar-April.png
END:VEVENT
BEGIN:VEVENT
DTSTART;TZID=America/New_York:20260404T100000
DTEND;TZID=America/New_York:20260404T110000
DTSTAMP:20260423T184552
CREATED:20260318T185455Z
LAST-MODIFIED:20260318T185455Z
UID:1637-1775296800-1775300400@armatv.org
SUMMARY:75th Annual Hoopes Park Easter Egg Hunt
DESCRIPTION:Victory farm volunteers during World War II Karen Weissman\, PHD   All programs are open to the public Free admission and parking Refreshments served Donation Appreciated
URL:https://armatv.org/event/75th-annual-hoopes-park-easter-egg-hunt/
LOCATION:Hoopes Park\, 153 S Hoopes Ave\, Auburn\, NY\, 13021\, United States
END:VEVENT
BEGIN:VEVENT
DTSTART;TZID=America/New_York:20260401T150000
DTEND;TZID=America/New_York:20260401T160000
DTSTAMP:20260423T184552
CREATED:20260206T173052Z
LAST-MODIFIED:20260206T173052Z
UID:1477-1775055600-1775059200@armatv.org
SUMMARY:Teen DIY: Easter Egg Magnets
DESCRIPTION:Victory farm volunteers during World War II Karen Weissman\, PHD   All programs are open to the public Free admission and parking Refreshments served Donation Appreciated
URL:https://armatv.org/event/teen-diy-easter-egg-magnets/
LOCATION:Seymour Library\, 176 Genesee St\, Auburn\, NY\, 13021
ATTACH;FMTTYPE=image/png:https://armatv.org/wp-content/uploads/2026/02/Easter-Egg-Magnets.png
END:VEVENT
BEGIN:VEVENT
DTSTART;TZID=America/New_York:20260327T170000
DTEND;TZID=America/New_York:20260327T180000
DTSTAMP:20260423T184552
CREATED:20260206T181756Z
LAST-MODIFIED:20260206T181756Z
UID:1534-1774630800-1774634400@armatv.org
SUMMARY:Teen Card Game Night
DESCRIPTION:Victory farm volunteers during World War II Karen Weissman\, PHD   All programs are open to the public Free admission and parking Refreshments served Donation Appreciated
URL:https://armatv.org/event/teen-card-game-night/
LOCATION:Seymour Library\, 176 Genesee St\, Auburn\, NY\, 13021
ATTACH;FMTTYPE=image/jpeg:https://armatv.org/wp-content/uploads/2026/02/Teen-Card-Game-Night-.jpg
END:VEVENT
BEGIN:VEVENT
DTSTART;TZID=America/New_York:20260326T110000
DTEND;TZID=America/New_York:20260326T120000
DTSTAMP:20260423T184552
CREATED:20260206T172743Z
LAST-MODIFIED:20260206T172743Z
UID:1474-1774522800-1774526400@armatv.org
SUMMARY:Beginners Knitting at Seymour Library
DESCRIPTION:Victory farm volunteers during World War II Karen Weissman\, PHD   All programs are open to the public Free admission and parking Refreshments served Donation Appreciated
URL:https://armatv.org/event/beginners-knitting-at-seymour-library-6/
LOCATION:Seymour Library\, 176 Genesee St\, Auburn\, NY\, 13021
ATTACH;FMTTYPE=image/png:https://armatv.org/wp-content/uploads/2026/02/Beginners-Knitting-for-Digital-TV.png
END:VEVENT
BEGIN:VEVENT
DTSTART;TZID=America/New_York:20260319T180000
DTEND;TZID=America/New_York:20260319T190000
DTSTAMP:20260423T184552
CREATED:20260206T184725Z
LAST-MODIFIED:20260206T184725Z
UID:1569-1773943200-1773946800@armatv.org
SUMMARY:Ward O'Hara Ag Museum: Harvesting History Series
DESCRIPTION:Victory farm volunteers during World War II Karen Weissman\, PHD   All programs are open to the public Free admission and parking Refreshments served Donation Appreciated
URL:https://armatv.org/event/ward-ohara-ag-museum-harvesting-history-series-2/
LOCATION:Ward O’Hara Ag Museum\, 6880 NY-38A\, Auburn\, NY\, 13021\, United States
END:VEVENT
BEGIN:VEVENT
DTSTART;TZID=America/New_York:20260319T180000
DTEND;TZID=America/New_York:20260319T190000
DTSTAMP:20260423T184552
CREATED:20260206T171540Z
LAST-MODIFIED:20260206T171540Z
UID:1455-1773943200-1773946800@armatv.org
SUMMARY:Mattie Bullard: Seymour Library's First Librarian
DESCRIPTION:Victory farm volunteers during World War II Karen Weissman\, PHD   All programs are open to the public Free admission and parking Refreshments served Donation Appreciated
URL:https://armatv.org/event/mattie-bullard-seymour-librarys-first-librarian/
LOCATION:Carriage House Theater\, 203 Genesee St\, Auburn\, NY\, 13021\, United States
ATTACH;FMTTYPE=image/jpeg:https://armatv.org/wp-content/uploads/2026/02/Mattie-Bullard-Seymour-Librarys-First-Librarian-1.jpg
END:VEVENT
BEGIN:VEVENT
DTSTART;TZID=America/New_York:20260319T113000
DTEND;TZID=America/New_York:20260319T123000
DTSTAMP:20260423T184552
CREATED:20260206T173524Z
LAST-MODIFIED:20260206T173524Z
UID:1483-1773919800-1773923400@armatv.org
SUMMARY:Homeschooling Families: Book to Movie Club
DESCRIPTION:Victory farm volunteers during World War II Karen Weissman\, PHD   All programs are open to the public Free admission and parking Refreshments served Donation Appreciated
URL:https://armatv.org/event/homeschooling-families-book-to-movie-club-2/
LOCATION:Seymour Library\, 176 Genesee St\, Auburn\, NY\, 13021
ATTACH;FMTTYPE=image/jpeg:https://armatv.org/wp-content/uploads/2026/02/Homeschooling-BOOK-TO-MOVIE-CLUB-2026-1.jpg
END:VEVENT
BEGIN:VEVENT
DTSTART;TZID=America/New_York:20260319T110000
DTEND;TZID=America/New_York:20260319T120000
DTSTAMP:20260423T184552
CREATED:20260206T172639Z
LAST-MODIFIED:20260206T172639Z
UID:1472-1773918000-1773921600@armatv.org
SUMMARY:Beginners Knitting at Seymour Library
DESCRIPTION:Victory farm volunteers during World War II Karen Weissman\, PHD   All programs are open to the public Free admission and parking Refreshments served Donation Appreciated
URL:https://armatv.org/event/beginners-knitting-at-seymour-library-5/
LOCATION:Seymour Library\, 176 Genesee St\, Auburn\, NY\, 13021
ATTACH;FMTTYPE=image/png:https://armatv.org/wp-content/uploads/2026/02/Beginners-Knitting-for-Digital-TV.png
END:VEVENT
BEGIN:VEVENT
DTSTART;TZID=America/New_York:20260314T130000
DTEND;TZID=America/New_York:20260314T140000
DTSTAMP:20260423T184552
CREATED:20260206T175130Z
LAST-MODIFIED:20260206T175130Z
UID:1515-1773493200-1773496800@armatv.org
SUMMARY:Saturday STEAM
DESCRIPTION:Victory farm volunteers during World War II Karen Weissman\, PHD   All programs are open to the public Free admission and parking Refreshments served Donation Appreciated
URL:https://armatv.org/event/saturday-steam-2/
LOCATION:Seymour Library\, 176 Genesee St\, Auburn\, NY\, 13021
ATTACH;FMTTYPE=image/jpeg:https://armatv.org/wp-content/uploads/2026/02/Saturday-STEAM-March-2026.jpg
END:VEVENT
BEGIN:VEVENT
DTSTART;TZID=America/New_York:20260314T100000
DTEND;TZID=America/New_York:20260314T110000
DTSTAMP:20260423T184552
CREATED:20260206T175433Z
LAST-MODIFIED:20260206T175433Z
UID:1521-1773482400-1773486000@armatv.org
SUMMARY:Saturday Storytime
DESCRIPTION:Victory farm volunteers during World War II Karen Weissman\, PHD   All programs are open to the public Free admission and parking Refreshments served Donation Appreciated
URL:https://armatv.org/event/saturday-storytime-3/
LOCATION:Seymour Library\, 176 Genesee St\, Auburn\, NY\, 13021
ATTACH;FMTTYPE=image/png:https://armatv.org/wp-content/uploads/2026/02/Saturday-Storytime-Feb-April-.png
END:VEVENT
BEGIN:VEVENT
DTSTART;TZID=America/New_York:20260312T140000
DTEND;TZID=America/New_York:20260312T150000
DTSTAMP:20260423T184552
CREATED:20260206T174432Z
LAST-MODIFIED:20260206T174432Z
UID:1499-1773324000-1773327600@armatv.org
SUMMARY:Meditation With Joe Sarnicola
DESCRIPTION:Victory farm volunteers during World War II Karen Weissman\, PHD   All programs are open to the public Free admission and parking Refreshments served Donation Appreciated
URL:https://armatv.org/event/meditation-with-joe-sarnicola-3/
LOCATION:Seymour Library\, 176 Genesee St\, Auburn\, NY\, 13021
ATTACH;FMTTYPE=image/png:https://armatv.org/wp-content/uploads/2026/02/Meditation-with-Joe-Sarnicola-2026.png
END:VEVENT
BEGIN:VEVENT
DTSTART;TZID=America/New_York:20260312T110000
DTEND;TZID=America/New_York:20260312T120000
DTSTAMP:20260423T184552
CREATED:20260206T172458Z
LAST-MODIFIED:20260206T172458Z
UID:1470-1773313200-1773316800@armatv.org
SUMMARY:Beginners Knitting at Seymour Library
DESCRIPTION:Victory farm volunteers during World War II Karen Weissman\, PHD   All programs are open to the public Free admission and parking Refreshments served Donation Appreciated
URL:https://armatv.org/event/beginners-knitting-at-seymour-library-4/
LOCATION:Seymour Library\, 176 Genesee St\, Auburn\, NY\, 13021
ATTACH;FMTTYPE=image/png:https://armatv.org/wp-content/uploads/2026/02/Beginners-Knitting-for-Digital-TV.png
END:VEVENT
BEGIN:VEVENT
DTSTART;TZID=America/New_York:20260311T160000
DTEND;TZID=America/New_York:20260311T170000
DTSTAMP:20260423T184552
CREATED:20260206T175825Z
LAST-MODIFIED:20260206T175825Z
UID:1528-1773244800-1773248400@armatv.org
SUMMARY:Tales With Trevor
DESCRIPTION:Victory farm volunteers during World War II Karen Weissman\, PHD   All programs are open to the public Free admission and parking Refreshments served Donation Appreciated
URL:https://armatv.org/event/tales-with-trevor-3/
LOCATION:Seymour Library\, 176 Genesee St\, Auburn\, NY\, 13021
ATTACH;FMTTYPE=image/png:https://armatv.org/wp-content/uploads/2026/02/Tales-with-Trevor-Feb-Mar-April.png
END:VEVENT
BEGIN:VEVENT
DTSTART;TZID=America/New_York:20260309T170000
DTEND;TZID=America/New_York:20260309T180000
DTSTAMP:20260423T184552
CREATED:20260206T174134Z
LAST-MODIFIED:20260206T174134Z
UID:1493-1773075600-1773079200@armatv.org
SUMMARY:Lego Club: Leprechaun Trap
DESCRIPTION:Victory farm volunteers during World War II Karen Weissman\, PHD   All programs are open to the public Free admission and parking Refreshments served Donation Appreciated
URL:https://armatv.org/event/lego-club-leprechaun-trap/
LOCATION:Seymour Library\, 176 Genesee St\, Auburn\, NY\, 13021
ATTACH;FMTTYPE=image/jpeg:https://armatv.org/wp-content/uploads/2026/02/Lego-Club-March.jpg
END:VEVENT
BEGIN:VEVENT
DTSTART;TZID=America/New_York:20260306T163000
DTEND;TZID=America/New_York:20260306T173000
DTSTAMP:20260423T184552
CREATED:20260206T182050Z
LAST-MODIFIED:20260206T182050Z
UID:1538-1772814600-1772818200@armatv.org
SUMMARY:Teen Faux Stained Glass
DESCRIPTION:Victory farm volunteers during World War II Karen Weissman\, PHD   All programs are open to the public Free admission and parking Refreshments served Donation Appreciated
URL:https://armatv.org/event/teen-faux-stained-glass/
LOCATION:Seymour Library\, 176 Genesee St\, Auburn\, NY\, 13021
ATTACH;FMTTYPE=image/jpeg:https://armatv.org/wp-content/uploads/2026/02/Teen-DIY-Faux-Stained-Glass.jpg
END:VEVENT
BEGIN:VEVENT
DTSTART;TZID=America/New_York:20260305T113000
DTEND;TZID=America/New_York:20260305T123000
DTSTAMP:20260423T184552
CREATED:20260206T173408Z
LAST-MODIFIED:20260206T173629Z
UID:1481-1772710200-1772713800@armatv.org
SUMMARY:Homeschooling Families: Book to Movie Club
DESCRIPTION:Victory farm volunteers during World War II Karen Weissman\, PHD   All programs are open to the public Free admission and parking Refreshments served Donation Appreciated
URL:https://armatv.org/event/homeschooling-families-book-to-movie-club/
LOCATION:Seymour Library\, 176 Genesee St\, Auburn\, NY\, 13021
ATTACH;FMTTYPE=image/jpeg:https://armatv.org/wp-content/uploads/2026/02/Homeschooling-BOOK-TO-MOVIE-CLUB-2026-1.jpg
END:VEVENT
BEGIN:VEVENT
DTSTART;TZID=America/New_York:20260305T110000
DTEND;TZID=America/New_York:20260305T120000
DTSTAMP:20260423T184552
CREATED:20260206T172337Z
LAST-MODIFIED:20260206T172337Z
UID:1468-1772708400-1772712000@armatv.org
SUMMARY:Beginners Knitting at Seymour Library
DESCRIPTION:Victory farm volunteers during World War II Karen Weissman\, PHD   All programs are open to the public Free admission and parking Refreshments served Donation Appreciated
URL:https://armatv.org/event/beginners-knitting-at-seymour-library-3/
LOCATION:Seymour Library\, 176 Genesee St\, Auburn\, NY\, 13021
ATTACH;FMTTYPE=image/png:https://armatv.org/wp-content/uploads/2026/02/Beginners-Knitting-for-Digital-TV.png
END:VEVENT
BEGIN:VEVENT
DTSTART;TZID=America/New_York:20260304T100000
DTEND;TZID=America/New_York:20260404T160000
DTSTAMP:20260423T184552
CREATED:20260318T185119Z
LAST-MODIFIED:20260318T185119Z
UID:1635-1772618400-1775318400@armatv.org
SUMMARY:Fifth Annual Easter Egg Scavenger Hunt
DESCRIPTION:Victory farm volunteers during World War II Karen Weissman\, PHD   All programs are open to the public Free admission and parking Refreshments served Donation Appreciated
URL:https://armatv.org/event/fifth-annual-easter-egg-scavenger-hunt/
LOCATION:Ward O’Hara Ag Museum\, 6880 NY-38A\, Auburn\, NY\, 13021\, United States
END:VEVENT
BEGIN:VEVENT
DTSTART;TZID=America/New_York:20260227T163000
DTEND;TZID=America/New_York:20260227T173000
DTSTAMP:20260423T184552
CREATED:20260206T174317Z
LAST-MODIFIED:20260206T174317Z
UID:1496-1772209800-1772213400@armatv.org
SUMMARY:Magic The Gathering: For Teens
DESCRIPTION:Victory farm volunteers during World War II Karen Weissman\, PHD   All programs are open to the public Free admission and parking Refreshments served Donation Appreciated
URL:https://armatv.org/event/magic-the-gathering-for-teens/
LOCATION:Seymour Library\, 176 Genesee St\, Auburn\, NY\, 13021
ATTACH;FMTTYPE=image/png:https://armatv.org/wp-content/uploads/2026/02/Magic-the-Gather-for-Teens.png
END:VEVENT
BEGIN:VEVENT
DTSTART;TZID=America/New_York:20260226T180000
DTEND;TZID=America/New_York:20260226T190000
DTSTAMP:20260423T184552
CREATED:20260206T182243Z
LAST-MODIFIED:20260206T182243Z
UID:1541-1772128800-1772132400@armatv.org
SUMMARY:The Next Mr. & Mrs. Seward
DESCRIPTION:Victory farm volunteers during World War II Karen Weissman\, PHD   All programs are open to the public Free admission and parking Refreshments served Donation Appreciated
URL:https://armatv.org/event/the-next-mr-mrs-seward/
LOCATION:Carriage House Theater\, 203 Genesee St\, Auburn\, NY\, 13021\, United States
ATTACH;FMTTYPE=image/png:https://armatv.org/wp-content/uploads/2026/02/Then-Next-Mr.-and-Mrs.-Seward-Digital-Slide.png
END:VEVENT
BEGIN:VEVENT
DTSTART;TZID=America/New_York:20260226T140000
DTEND;TZID=America/New_York:20260226T150000
DTSTAMP:20260423T184552
CREATED:20260206T174545Z
LAST-MODIFIED:20260206T174545Z
UID:1502-1772114400-1772118000@armatv.org
SUMMARY:Meditation With Joe Sarnicola
DESCRIPTION:Victory farm volunteers during World War II Karen Weissman\, PHD   All programs are open to the public Free admission and parking Refreshments served Donation Appreciated
URL:https://armatv.org/event/meditation-with-joe-sarnicola-4/
LOCATION:Seymour Library\, 176 Genesee St\, Auburn\, NY\, 13021
ATTACH;FMTTYPE=image/png:https://armatv.org/wp-content/uploads/2026/02/Meditation-with-Joe-Sarnicola-2026-1.png
END:VEVENT
BEGIN:VEVENT
DTSTART;TZID=America/New_York:20260226T110000
DTEND;TZID=America/New_York:20260226T120000
DTSTAMP:20260423T184552
CREATED:20260206T172215Z
LAST-MODIFIED:20260206T172215Z
UID:1466-1772103600-1772107200@armatv.org
SUMMARY:Beginners Knitting at Seymour Library
DESCRIPTION:Victory farm volunteers during World War II Karen Weissman\, PHD   All programs are open to the public Free admission and parking Refreshments served Donation Appreciated
URL:https://armatv.org/event/beginners-knitting-at-seymour-library-2/
LOCATION:Seymour Library\, 176 Genesee St\, Auburn\, NY\, 13021
ATTACH;FMTTYPE=image/png:https://armatv.org/wp-content/uploads/2026/02/Beginners-Knitting-for-Digital-TV.png
END:VEVENT
BEGIN:VEVENT
DTSTART;TZID=America/New_York:20260225T160000
DTEND;TZID=America/New_York:20260225T180000
DTSTAMP:20260423T184552
CREATED:20260206T174858Z
LAST-MODIFIED:20260206T174858Z
UID:1509-1772035200-1772042400@armatv.org
SUMMARY:Pokémon Club
DESCRIPTION:Victory farm volunteers during World War II Karen Weissman\, PHD   All programs are open to the public Free admission and parking Refreshments served Donation Appreciated
URL:https://armatv.org/event/pokemon-club/
LOCATION:Seymour Library\, 176 Genesee St\, Auburn\, NY\, 13021
ATTACH;FMTTYPE=image/png:https://armatv.org/wp-content/uploads/2026/02/Pokemon-Club-FEB-2026.png
END:VEVENT
BEGIN:VEVENT
DTSTART;VALUE=DATE:20260222
DTEND;VALUE=DATE:20260223
DTSTAMP:20260423T184552
CREATED:20260206T183345Z
LAST-MODIFIED:20260206T183345Z
UID:1551-1771718400-1771804799@armatv.org
SUMMARY:FE-BREW-ARY at Aurora Brewing Co
DESCRIPTION:Victory farm volunteers during World War II Karen Weissman\, PHD   All programs are open to the public Free admission and parking Refreshments served Donation Appreciated
URL:https://armatv.org/event/fe-brew-ary-at-aurora-brewing-co/
LOCATION:Aurora Brewing Co\, 1897 State Route 90 N\, King Ferry\, NY\, 13081\, United States
ATTACH;FMTTYPE=image/jpeg:https://armatv.org/wp-content/uploads/2026/02/FE-BREW-ARY-Aurora-Brewing-Co.jpg
END:VEVENT
BEGIN:VEVENT
DTSTART;VALUE=DATE:20260221
DTEND;VALUE=DATE:20260222
DTSTAMP:20260423T184552
CREATED:20260206T183938Z
LAST-MODIFIED:20260206T183938Z
UID:1563-1771632000-1771718399@armatv.org
SUMMARY:FE-BREW-ARY at Sterling Cidery
DESCRIPTION:Victory farm volunteers during World War II Karen Weissman\, PHD   All programs are open to the public Free admission and parking Refreshments served Donation Appreciated
URL:https://armatv.org/event/fe-brew-ary-at-sterling-cidery/
LOCATION:Sterling Cidery\, 14451 Richmond Ave\, Sterling\, NY\, 13156\, United States
ATTACH;FMTTYPE=image/jpeg:https://armatv.org/wp-content/uploads/2026/02/FE-BREW-ARY-Sterling-Cidery.jpg
END:VEVENT
BEGIN:VEVENT
DTSTART;TZID=America/New_York:20260219T180000
DTEND;TZID=America/New_York:20260219T190000
DTSTAMP:20260423T184552
CREATED:20260206T184529Z
LAST-MODIFIED:20260206T184529Z
UID:1567-1771524000-1771527600@armatv.org
SUMMARY:Ward O'Hara Ag Museum: Harvesting History Series
DESCRIPTION:Victory farm volunteers during World War II Karen Weissman\, PHD   All programs are open to the public Free admission and parking Refreshments served Donation Appreciated
URL:https://armatv.org/event/ward-ohara-ag-museum-harvesting-history-series/
LOCATION:Ward O’Hara Ag Museum\, 6880 NY-38A\, Auburn\, NY\, 13021\, United States
END:VEVENT
END:VCALENDAR