BEGIN:VCALENDAR
VERSION:2.0
PRODID:-//ARMA: Auburn Regional Media Access - ECPv6.15.17.1//NONSGML v1.0//EN
CALSCALE:GREGORIAN
METHOD:PUBLISH
X-WR-CALNAME:ARMA: Auburn Regional Media Access
X-ORIGINAL-URL:https://armatv.org
X-WR-CALDESC:Events for ARMA: Auburn Regional Media Access
REFRESH-INTERVAL;VALUE=DURATION:PT1H
X-Robots-Tag:noindex
X-PUBLISHED-TTL:PT1H
BEGIN:VTIMEZONE
TZID:America/New_York
BEGIN:DAYLIGHT
TZOFFSETFROM:-0500
TZOFFSETTO:-0400
TZNAME:EDT
DTSTART:20240310T070000
END:DAYLIGHT
BEGIN:STANDARD
TZOFFSETFROM:-0400
TZOFFSETTO:-0500
TZNAME:EST
DTSTART:20241103T060000
END:STANDARD
BEGIN:DAYLIGHT
TZOFFSETFROM:-0500
TZOFFSETTO:-0400
TZNAME:EDT
DTSTART:20250309T070000
END:DAYLIGHT
BEGIN:STANDARD
TZOFFSETFROM:-0400
TZOFFSETTO:-0500
TZNAME:EST
DTSTART:20251102T060000
END:STANDARD
BEGIN:DAYLIGHT
TZOFFSETFROM:-0500
TZOFFSETTO:-0400
TZNAME:EDT
DTSTART:20260308T070000
END:DAYLIGHT
BEGIN:STANDARD
TZOFFSETFROM:-0400
TZOFFSETTO:-0500
TZNAME:EST
DTSTART:20261101T060000
END:STANDARD
END:VTIMEZONE
BEGIN:VEVENT
DTSTART;TZID=America/New_York:20251105T130000
DTEND;TZID=America/New_York:20251108T140000
DTSTAMP:20260423T200949
CREATED:20251105T204514Z
LAST-MODIFIED:20251105T204514Z
UID:1301-1762347600-1762610400@armatv.org
SUMMARY:Saturday STEAM: Mini Parade Balloon Challenge
DESCRIPTION:Victory farm volunteers during World War II Karen Weissman\, PHD   All programs are open to the public Free admission and parking Refreshments served Donation Appreciated
URL:https://armatv.org/event/saturday-steam-mini-parade-balloon-challenge/
LOCATION:Seymour Library\, 176 Genesee St\, Auburn\, NY\, 13021
END:VEVENT
BEGIN:VEVENT
DTSTART;TZID=America/New_York:20251105T090000
DTEND;TZID=America/New_York:20251105T130000
DTSTAMP:20260423T200949
CREATED:20251105T205055Z
LAST-MODIFIED:20251105T205055Z
UID:1315-1762333200-1762347600@armatv.org
SUMMARY:Seymour Library Drop in STEAM
DESCRIPTION:Victory farm volunteers during World War II Karen Weissman\, PHD   All programs are open to the public Free admission and parking Refreshments served Donation Appreciated
URL:https://armatv.org/event/seymour-library-drop-in-steam-2/
LOCATION:Seymour Library\, 176 Genesee St\, Auburn\, NY\, 13021
END:VEVENT
BEGIN:VEVENT
DTSTART;TZID=America/New_York:20251030T180000
DTEND;TZID=America/New_York:20251030T190000
DTSTAMP:20260423T200949
CREATED:20250820T195823Z
LAST-MODIFIED:20250820T195823Z
UID:1172-1761847200-1761850800@armatv.org
SUMMARY:After Hours Lecture Series: History Unleashed
DESCRIPTION:Victory farm volunteers during World War II Karen Weissman\, PHD   All programs are open to the public Free admission and parking Refreshments served Donation Appreciated
URL:https://armatv.org/event/after-hours-lecture-series-history-unleashed/
LOCATION:Seymour Library\, 176 Genesee St\, Auburn\, NY\, 13021
END:VEVENT
BEGIN:VEVENT
DTSTART;TZID=America/New_York:20251024T180000
DTEND;TZID=America/New_York:20251024T190000
DTSTAMP:20260423T200950
CREATED:20250917T204756Z
LAST-MODIFIED:20250917T204756Z
UID:1229-1761328800-1761332400@armatv.org
SUMMARY:Halloween Trivia Night
DESCRIPTION:Victory farm volunteers during World War II Karen Weissman\, PHD   All programs are open to the public Free admission and parking Refreshments served Donation Appreciated
URL:https://armatv.org/event/halloween-trivia-night/
LOCATION:Seymour Library\, 176 Genesee St\, Auburn\, NY\, 13021
END:VEVENT
BEGIN:VEVENT
DTSTART;TZID=America/New_York:20251022T170000
DTEND;TZID=America/New_York:20251022T180000
DTSTAMP:20260423T200950
CREATED:20250917T204300Z
LAST-MODIFIED:20250917T204300Z
UID:1220-1761152400-1761156000@armatv.org
SUMMARY:Seymour Library Pokémon Club
DESCRIPTION:Victory farm volunteers during World War II Karen Weissman\, PHD   All programs are open to the public Free admission and parking Refreshments served Donation Appreciated
URL:https://armatv.org/event/seymour-library-pokemon-club/
LOCATION:Seymour Library\, 176 Genesee St\, Auburn\, NY\, 13021
END:VEVENT
BEGIN:VEVENT
DTSTART;TZID=America/New_York:20251022T160000
DTEND;TZID=America/New_York:20251022T173000
DTSTAMP:20260423T200950
CREATED:20251006T201148Z
LAST-MODIFIED:20251006T201148Z
UID:1254-1761148800-1761154200@armatv.org
SUMMARY:United Way Annual Membership Meeting & Volunteer Cayuga Launch Party
DESCRIPTION:Victory farm volunteers during World War II Karen Weissman\, PHD   All programs are open to the public Free admission and parking Refreshments served Donation Appreciated
URL:https://armatv.org/event/united-way-annual-membership-meeting-volunteer-cayuga-launch-party/
LOCATION:Owen Orchards\, 8174 Grant Ave\, Weedsport\, NY\, United States
END:VEVENT
BEGIN:VEVENT
DTSTART;TZID=America/New_York:20251022T140000
DTEND;TZID=America/New_York:20251022T160000
DTSTAMP:20260423T200950
CREATED:20251006T201758Z
LAST-MODIFIED:20251006T201758Z
UID:1259-1761141600-1761148800@armatv.org
SUMMARY:Free Medicare 101 Classes
DESCRIPTION:Victory farm volunteers during World War II Karen Weissman\, PHD   All programs are open to the public Free admission and parking Refreshments served Donation Appreciated
URL:https://armatv.org/event/free-medicare-101-classes/
LOCATION:Boyle Center
END:VEVENT
BEGIN:VEVENT
DTSTART;TZID=America/New_York:20251021T160000
DTEND;TZID=America/New_York:20251021T170000
DTSTAMP:20260423T200950
CREATED:20250917T204612Z
LAST-MODIFIED:20250917T204612Z
UID:1226-1761062400-1761066000@armatv.org
SUMMARY:Medicare 101
DESCRIPTION:Victory farm volunteers during World War II Karen Weissman\, PHD   All programs are open to the public Free admission and parking Refreshments served Donation Appreciated
URL:https://armatv.org/event/medicare-101/
LOCATION:Seymour Library\, 176 Genesee St\, Auburn\, NY\, 13021
END:VEVENT
BEGIN:VEVENT
DTSTART;TZID=America/New_York:20251020T170000
DTEND;TZID=America/New_York:20251020T180000
DTSTAMP:20260423T200950
CREATED:20250917T203920Z
LAST-MODIFIED:20250917T203920Z
UID:1214-1760979600-1760983200@armatv.org
SUMMARY:Seymour Library Lego Club: Dragons Love Tacos
DESCRIPTION:Victory farm volunteers during World War II Karen Weissman\, PHD   All programs are open to the public Free admission and parking Refreshments served Donation Appreciated
URL:https://armatv.org/event/seymour-library-lego-club-dragons-love-tacos/
LOCATION:Seymour Library\, 176 Genesee St\, Auburn\, NY\, 13021
END:VEVENT
BEGIN:VEVENT
DTSTART;TZID=America/New_York:20251018T110000
DTEND;TZID=America/New_York:20251018T140000
DTSTAMP:20260423T200950
CREATED:20250820T194959Z
LAST-MODIFIED:20250820T194959Z
UID:1160-1760785200-1760796000@armatv.org
SUMMARY:Family Fun Day: Craft Spooktacular
DESCRIPTION:Victory farm volunteers during World War II Karen Weissman\, PHD   All programs are open to the public Free admission and parking Refreshments served Donation Appreciated
URL:https://armatv.org/event/family-fun-day-craft-spooktacular/
LOCATION:Seymour Library\, 176 Genesee St\, Auburn\, NY\, 13021
END:VEVENT
BEGIN:VEVENT
DTSTART;TZID=America/New_York:20251016T180000
DTEND;TZID=America/New_York:20251016T190000
DTSTAMP:20260423T200950
CREATED:20250820T194751Z
LAST-MODIFIED:20250820T194751Z
UID:1157-1760637600-1760641200@armatv.org
SUMMARY:Poetry Reading with Bobbie Dumas Panek
DESCRIPTION:Victory farm volunteers during World War II Karen Weissman\, PHD   All programs are open to the public Free admission and parking Refreshments served Donation Appreciated
URL:https://armatv.org/event/poetry-reading-with-bobbie-dumas-panek/
LOCATION:Seymour Library\, 176 Genesee St\, Auburn\, NY\, 13021
END:VEVENT
BEGIN:VEVENT
DTSTART;TZID=America/New_York:20251011T130000
DTEND;TZID=America/New_York:20251011T140000
DTSTAMP:20260423T200950
CREATED:20250917T205032Z
LAST-MODIFIED:20250917T205032Z
UID:1235-1760187600-1760191200@armatv.org
SUMMARY:Saturday STEAM: Ghostly Science
DESCRIPTION:Victory farm volunteers during World War II Karen Weissman\, PHD   All programs are open to the public Free admission and parking Refreshments served Donation Appreciated
URL:https://armatv.org/event/saturday-steam-ghostly-science/
LOCATION:Seymour Library\, 176 Genesee St\, Auburn\, NY\, 13021
END:VEVENT
BEGIN:VEVENT
DTSTART;TZID=America/New_York:20251011T100000
DTEND;TZID=America/New_York:20251011T110000
DTSTAMP:20260423T200950
CREATED:20250917T204052Z
LAST-MODIFIED:20250917T204052Z
UID:1217-1760176800-1760180400@armatv.org
SUMMARY:Seymour Library Saturday Storytime
DESCRIPTION:Victory farm volunteers during World War II Karen Weissman\, PHD   All programs are open to the public Free admission and parking Refreshments served Donation Appreciated
URL:https://armatv.org/event/seymour-library-saturday-storytime/
LOCATION:Seymour Library\, 176 Genesee St\, Auburn\, NY\, 13021
END:VEVENT
BEGIN:VEVENT
DTSTART;TZID=America/New_York:20251008T090000
DTEND;TZID=America/New_York:20251008T190000
DTSTAMP:20260423T200950
CREATED:20250917T203520Z
LAST-MODIFIED:20250917T203520Z
UID:1211-1759914000-1759950000@armatv.org
SUMMARY:Seymour Library Budget Vote & Trustee Election
DESCRIPTION:Victory farm volunteers during World War II Karen Weissman\, PHD   All programs are open to the public Free admission and parking Refreshments served Donation Appreciated
URL:https://armatv.org/event/seymour-library-budget-vote-trustee-election/
LOCATION:Seymour Library\, 176 Genesee St\, Auburn\, NY\, 13021
END:VEVENT
BEGIN:VEVENT
DTSTART;TZID=America/New_York:20251007T160000
DTEND;TZID=America/New_York:20251007T170000
DTSTAMP:20260423T200950
CREATED:20250917T204909Z
LAST-MODIFIED:20250917T204909Z
UID:1232-1759852800-1759856400@armatv.org
SUMMARY:Garden Cleanup Workshop
DESCRIPTION:Victory farm volunteers during World War II Karen Weissman\, PHD   All programs are open to the public Free admission and parking Refreshments served Donation Appreciated
URL:https://armatv.org/event/garden-cleanup-workshop/
LOCATION:Seymour Library\, 176 Genesee St\, Auburn\, NY\, 13021
END:VEVENT
BEGIN:VEVENT
DTSTART;TZID=America/New_York:20251006T173000
DTEND;TZID=America/New_York:20251027T193000
DTSTAMP:20260423T200950
CREATED:20251006T200731Z
LAST-MODIFIED:20251006T200731Z
UID:1251-1759771800-1761593400@armatv.org
SUMMARY:Mozaic Trunk or Treat
DESCRIPTION:Victory farm volunteers during World War II Karen Weissman\, PHD   All programs are open to the public Free admission and parking Refreshments served Donation Appreciated
URL:https://armatv.org/event/mozaic-trunk-or-treat/
LOCATION:1083 Waterloo – Geneva Rd\, Waterloo NY\, 1083 Waterloo-Geneva Rd\, Waterloo\, NY\, United States
END:VEVENT
BEGIN:VEVENT
DTSTART;TZID=America/New_York:20251002T140000
DTEND;TZID=America/New_York:20251002T150000
DTSTAMP:20260423T200950
CREATED:20250917T204421Z
LAST-MODIFIED:20250917T204421Z
UID:1223-1759413600-1759417200@armatv.org
SUMMARY:Seymour Library Paint & Sketch
DESCRIPTION:Victory farm volunteers during World War II Karen Weissman\, PHD   All programs are open to the public Free admission and parking Refreshments served Donation Appreciated
URL:https://armatv.org/event/seymour-library-paint-sketch/
LOCATION:Seymour Library\, 176 Genesee St\, Auburn\, NY\, 13021
END:VEVENT
BEGIN:VEVENT
DTSTART;TZID=America/New_York:20251002T080000
DTEND;TZID=America/New_York:20251002T163000
DTSTAMP:20260423T200950
CREATED:20250827T172507Z
LAST-MODIFIED:20250827T172507Z
UID:1195-1759392000-1759422600@armatv.org
SUMMARY:United Way Nonprofit Summit: Finding Certainty in Uncertain Times
DESCRIPTION:Victory farm volunteers during World War II Karen Weissman\, PHD   All programs are open to the public Free admission and parking Refreshments served Donation Appreciated
URL:https://armatv.org/event/united-way-nonprofit-summit-finding-certainty-in-uncertain-times/
LOCATION:The Lodge\, 4355 State St\, Skaneateles Falls\, NY\, 13153\, United States
END:VEVENT
BEGIN:VEVENT
DTSTART;TZID=America/New_York:20250927T110000
DTEND;TZID=America/New_York:20250927T120000
DTSTAMP:20260423T200950
CREATED:20250820T195355Z
LAST-MODIFIED:20250820T195355Z
UID:1166-1758970800-1758974400@armatv.org
SUMMARY:Concert & Instrument Petting Zoo
DESCRIPTION:Victory farm volunteers during World War II Karen Weissman\, PHD   All programs are open to the public Free admission and parking Refreshments served Donation Appreciated
URL:https://armatv.org/event/concert-instrument-petting-zoo/
LOCATION:Seymour Library\, 176 Genesee St\, Auburn\, NY\, 13021
END:VEVENT
BEGIN:VEVENT
DTSTART;TZID=America/New_York:20250925T180000
DTEND;TZID=America/New_York:20250925T190000
DTSTAMP:20260423T200950
CREATED:20250820T195132Z
LAST-MODIFIED:20250820T195132Z
UID:1163-1758823200-1758826800@armatv.org
SUMMARY:From Critic to Convert
DESCRIPTION:Victory farm volunteers during World War II Karen Weissman\, PHD   All programs are open to the public Free admission and parking Refreshments served Donation Appreciated
URL:https://armatv.org/event/from-critic-to-convert/
LOCATION:Seymour Library\, 176 Genesee St\, Auburn\, NY\, 13021
END:VEVENT
BEGIN:VEVENT
DTSTART;TZID=America/New_York:20250924T083000
DTEND;TZID=America/New_York:20250924T130000
DTSTAMP:20260423T200950
CREATED:20250827T170228Z
LAST-MODIFIED:20250827T170228Z
UID:1186-1758702600-1758718800@armatv.org
SUMMARY:Office for the Aging Senior Resource Fair
DESCRIPTION:Victory farm volunteers during World War II Karen Weissman\, PHD   All programs are open to the public Free admission and parking Refreshments served Donation Appreciated
URL:https://armatv.org/event/office-for-the-aging-senior-resource-fair/
LOCATION:Fingerlakes Mall\, 1579 Clark St Rd\, Auburn\, NY\, 13022\, United States
END:VEVENT
BEGIN:VEVENT
DTSTART;TZID=America/New_York:20250921T140000
DTEND;TZID=America/New_York:20250921T150000
DTSTAMP:20260423T200950
CREATED:20250908T172459Z
LAST-MODIFIED:20250908T172459Z
UID:1205-1758463200-1758466800@armatv.org
SUMMARY:Bob Piorun Band in Concert at Willard Chapel
DESCRIPTION:Victory farm volunteers during World War II Karen Weissman\, PHD   All programs are open to the public Free admission and parking Refreshments served Donation Appreciated
URL:https://armatv.org/event/bob-piorun-band-in-concert-at-willard-chapel/
LOCATION:Willard Memorial Chapel\, 17 Nelson St\, Auburn\, NY\, United States
ATTACH;FMTTYPE=image/jpeg:https://armatv.org/wp-content/uploads/2025/09/WMC-Interior-Shot.jpg
END:VEVENT
BEGIN:VEVENT
DTSTART;TZID=America/New_York:20250920T100000
DTEND;TZID=America/New_York:20250920T160000
DTSTAMP:20260423T200950
CREATED:20250827T170524Z
LAST-MODIFIED:20250827T170524Z
UID:1191-1758362400-1758384000@armatv.org
SUMMARY:Art in the Park
DESCRIPTION:Victory farm volunteers during World War II Karen Weissman\, PHD   All programs are open to the public Free admission and parking Refreshments served Donation Appreciated
URL:https://armatv.org/event/art-in-the-park/
LOCATION:Hoopes Park\, 153 S Hoopes Ave\, Auburn\, NY\, 13021\, United States
END:VEVENT
BEGIN:VEVENT
DTSTART;TZID=America/New_York:20250918T180000
DTEND;TZID=America/New_York:20250918T190000
DTSTAMP:20260423T200950
CREATED:20250820T201612Z
LAST-MODIFIED:20250827T165919Z
UID:1182-1758218400-1758222000@armatv.org
SUMMARY:Martha Shaw Harvesting History Lecture Series
DESCRIPTION:Victory farm volunteers during World War II Karen Weissman\, PHD   All programs are open to the public Free admission and parking Refreshments served Donation Appreciated
URL:https://armatv.org/event/martha-shaw-harvesting-history-lecture-series/
LOCATION:Ward O’Hara Ag Museum\, 6880 NY-38A\, Auburn\, NY\, 13021\, United States
END:VEVENT
BEGIN:VEVENT
DTSTART;TZID=America/New_York:20250918T180000
DTEND;TZID=America/New_York:20250918T190000
DTSTAMP:20260423T200950
CREATED:20250820T195643Z
LAST-MODIFIED:20250820T200221Z
UID:1169-1758218400-1758222000@armatv.org
SUMMARY:After Hours Lecture Series: The Golden Age of Railroads in Cayuga County
DESCRIPTION:Victory farm volunteers during World War II Karen Weissman\, PHD   All programs are open to the public Free admission and parking Refreshments served Donation Appreciated
URL:https://armatv.org/event/after-hours-lecture-series/
LOCATION:Seymour Library\, 176 Genesee St\, Auburn\, NY\, 13021
END:VEVENT
BEGIN:VEVENT
DTSTART;TZID=America/New_York:20250916T160000
DTEND;TZID=America/New_York:20250916T170000
DTSTAMP:20260423T200950
CREATED:20250820T200113Z
LAST-MODIFIED:20250820T200113Z
UID:1178-1758038400-1758042000@armatv.org
SUMMARY:Trash Talk: Simple Steps to Waste Less & Recycle Right
DESCRIPTION:Victory farm volunteers during World War II Karen Weissman\, PHD   All programs are open to the public Free admission and parking Refreshments served Donation Appreciated
URL:https://armatv.org/event/trash-talk-simple-steps-to-waste-less-recycle-right/
LOCATION:Seymour Library\, 176 Genesee St\, Auburn\, NY\, 13021
END:VEVENT
BEGIN:VEVENT
DTSTART;TZID=America/New_York:20250906T110000
DTEND;TZID=America/New_York:20250906T190000
DTSTAMP:20260423T200950
CREATED:20250827T192717Z
LAST-MODIFIED:20250827T192717Z
UID:1200-1757156400-1757185200@armatv.org
SUMMARY:2025 TomatoFest
DESCRIPTION:Victory farm volunteers during World War II Karen Weissman\, PHD   All programs are open to the public Free admission and parking Refreshments served Donation Appreciated
URL:https://armatv.org/event/2025-tomatofest/
LOCATION:Fingerlakes Mall\, 1579 Clark St Rd\, Auburn\, NY\, 13022\, United States
END:VEVENT
BEGIN:VEVENT
DTSTART;TZID=America/New_York:20250904T180000
DTEND;TZID=America/New_York:20250904T190000
DTSTAMP:20260423T200950
CREATED:20250820T195957Z
LAST-MODIFIED:20250820T195957Z
UID:1175-1757008800-1757012400@armatv.org
SUMMARY:Music in the Stacks: Nuclear Ukulele
DESCRIPTION:Victory farm volunteers during World War II Karen Weissman\, PHD   All programs are open to the public Free admission and parking Refreshments served Donation Appreciated
URL:https://armatv.org/event/music-in-the-stacks-nuclear-ukulele/
LOCATION:Seymour Library\, 176 Genesee St\, Auburn\, NY\, 13021
END:VEVENT
BEGIN:VEVENT
DTSTART;TZID=America/New_York:20250726T160000
DTEND;TZID=America/New_York:20250726T170000
DTSTAMP:20260423T200950
CREATED:20250711T181356Z
LAST-MODIFIED:20250711T181356Z
UID:1150-1753545600-1753549200@armatv.org
SUMMARY:Captain Squeeze Trio at Willard Chapel
DESCRIPTION:Victory farm volunteers during World War II Karen Weissman\, PHD   All programs are open to the public Free admission and parking Refreshments served Donation Appreciated
URL:https://armatv.org/event/captain-squeeze-trio-at-willard-chapel/
LOCATION:Willard Memorial Chapel\, 17 Nelson St\, Auburn\, NY\, United States
END:VEVENT
BEGIN:VEVENT
DTSTART;TZID=America/New_York:20250725T180000
DTEND;TZID=America/New_York:20250725T200000
DTSTAMP:20260423T200950
CREATED:20250623T215422Z
LAST-MODIFIED:20250623T215422Z
UID:1124-1753466400-1753473600@armatv.org
SUMMARY:Seymour Library Book to Movie Club
DESCRIPTION:Victory farm volunteers during World War II Karen Weissman\, PHD   All programs are open to the public Free admission and parking Refreshments served Donation Appreciated
URL:https://armatv.org/event/seymour-library-book-to-movie-club-2/
LOCATION:NY
ATTACH;FMTTYPE=image/png:https://armatv.org/wp-content/uploads/2025/06/BOOK-TO-MOVIE-CLUB-2025-1.png
END:VEVENT
END:VCALENDAR