BEGIN:VCALENDAR
VERSION:2.0
PRODID:-//ARMA: Auburn Regional Media Access - ECPv6.15.17.1//NONSGML v1.0//EN
CALSCALE:GREGORIAN
METHOD:PUBLISH
X-WR-CALNAME:ARMA: Auburn Regional Media Access
X-ORIGINAL-URL:https://armatv.org
X-WR-CALDESC:Events for ARMA: Auburn Regional Media Access
REFRESH-INTERVAL;VALUE=DURATION:PT1H
X-Robots-Tag:noindex
X-PUBLISHED-TTL:PT1H
BEGIN:VTIMEZONE
TZID:America/New_York
BEGIN:DAYLIGHT
TZOFFSETFROM:-0500
TZOFFSETTO:-0400
TZNAME:EDT
DTSTART:20250309T070000
END:DAYLIGHT
BEGIN:STANDARD
TZOFFSETFROM:-0400
TZOFFSETTO:-0500
TZNAME:EST
DTSTART:20251102T060000
END:STANDARD
BEGIN:DAYLIGHT
TZOFFSETFROM:-0500
TZOFFSETTO:-0400
TZNAME:EDT
DTSTART:20260308T070000
END:DAYLIGHT
BEGIN:STANDARD
TZOFFSETFROM:-0400
TZOFFSETTO:-0500
TZNAME:EST
DTSTART:20261101T060000
END:STANDARD
BEGIN:DAYLIGHT
TZOFFSETFROM:-0500
TZOFFSETTO:-0400
TZNAME:EDT
DTSTART:20270314T070000
END:DAYLIGHT
BEGIN:STANDARD
TZOFFSETFROM:-0400
TZOFFSETTO:-0500
TZNAME:EST
DTSTART:20271107T060000
END:STANDARD
END:VTIMEZONE
BEGIN:VEVENT
DTSTART;TZID=America/New_York:20260425T100000
DTEND;TZID=America/New_York:20260425T140000
DTSTAMP:20260423T120438
CREATED:20260420T154026Z
LAST-MODIFIED:20260420T154026Z
UID:1670-1777111200-1777125600@armatv.org
SUMMARY:DEA National Takeback
DESCRIPTION:
URL:https://armatv.org/event/dea-national-takeback/
LOCATION:Owasco Fire Department\, 7174 Owasco Road\, Owasco\, NY\, 13021\, United States
ATTACH;FMTTYPE=image/png:https://armatv.org/wp-content/uploads/2026/04/4-25-26-Flyer-.png
END:VEVENT
END:VCALENDAR