BEGIN:VCALENDAR
VERSION:2.0
PRODID:-//ARMA: Auburn Regional Media Access - ECPv6.15.17.1//NONSGML v1.0//EN
CALSCALE:GREGORIAN
METHOD:PUBLISH
X-ORIGINAL-URL:https://armatv.org
X-WR-CALDESC:Events for ARMA: Auburn Regional Media Access
REFRESH-INTERVAL;VALUE=DURATION:PT1H
X-Robots-Tag:noindex
X-PUBLISHED-TTL:PT1H
BEGIN:VTIMEZONE
TZID:America/New_York
BEGIN:DAYLIGHT
TZOFFSETFROM:-0500
TZOFFSETTO:-0400
TZNAME:EDT
DTSTART:20250309T070000
END:DAYLIGHT
BEGIN:STANDARD
TZOFFSETFROM:-0400
TZOFFSETTO:-0500
TZNAME:EST
DTSTART:20251102T060000
END:STANDARD
BEGIN:DAYLIGHT
TZOFFSETFROM:-0500
TZOFFSETTO:-0400
TZNAME:EDT
DTSTART:20260308T070000
END:DAYLIGHT
BEGIN:STANDARD
TZOFFSETFROM:-0400
TZOFFSETTO:-0500
TZNAME:EST
DTSTART:20261101T060000
END:STANDARD
BEGIN:DAYLIGHT
TZOFFSETFROM:-0500
TZOFFSETTO:-0400
TZNAME:EDT
DTSTART:20270314T070000
END:DAYLIGHT
BEGIN:STANDARD
TZOFFSETFROM:-0400
TZOFFSETTO:-0500
TZNAME:EST
DTSTART:20271107T060000
END:STANDARD
END:VTIMEZONE
BEGIN:VEVENT
DTSTART;TZID=America/New_York:20260409T140000
DTEND;TZID=America/New_York:20260409T150000
DTSTAMP:20260423T120506
CREATED:20260206T174639Z
LAST-MODIFIED:20260206T174639Z
UID:1505-1775743200-1775746800@armatv.org
SUMMARY:Meditation With Joe Sarnicola
DESCRIPTION:
URL:https://armatv.org/event/meditation-with-joe-sarnicola-5/
LOCATION:Seymour Library\, 176 Genesee St\, Auburn\, NY\, 13021
ATTACH;FMTTYPE=image/png:https://armatv.org/wp-content/uploads/2026/02/Meditation-with-Joe-Sarnicola-2026-1.png
END:VEVENT
END:VCALENDAR