BEGIN:VCALENDAR
VERSION:2.0
PRODID:-//ARMA: Auburn Regional Media Access - ECPv6.15.17.1//NONSGML v1.0//EN
CALSCALE:GREGORIAN
METHOD:PUBLISH
X-WR-CALNAME:ARMA: Auburn Regional Media Access
X-ORIGINAL-URL:https://armatv.org
X-WR-CALDESC:Events for ARMA: Auburn Regional Media Access
REFRESH-INTERVAL;VALUE=DURATION:PT1H
X-Robots-Tag:noindex
X-PUBLISHED-TTL:PT1H
BEGIN:VTIMEZONE
TZID:America/New_York
BEGIN:DAYLIGHT
TZOFFSETFROM:-0500
TZOFFSETTO:-0400
TZNAME:EDT
DTSTART:20250309T070000
END:DAYLIGHT
BEGIN:STANDARD
TZOFFSETFROM:-0400
TZOFFSETTO:-0500
TZNAME:EST
DTSTART:20251102T060000
END:STANDARD
BEGIN:DAYLIGHT
TZOFFSETFROM:-0500
TZOFFSETTO:-0400
TZNAME:EDT
DTSTART:20260308T070000
END:DAYLIGHT
BEGIN:STANDARD
TZOFFSETFROM:-0400
TZOFFSETTO:-0500
TZNAME:EST
DTSTART:20261101T060000
END:STANDARD
BEGIN:DAYLIGHT
TZOFFSETFROM:-0500
TZOFFSETTO:-0400
TZNAME:EDT
DTSTART:20270314T070000
END:DAYLIGHT
BEGIN:STANDARD
TZOFFSETFROM:-0400
TZOFFSETTO:-0500
TZNAME:EST
DTSTART:20271107T060000
END:STANDARD
END:VTIMEZONE
BEGIN:VEVENT
DTSTART;TZID=America/New_York:20260304T100000
DTEND;TZID=America/New_York:20260404T160000
DTSTAMP:20260423T133107
CREATED:20260318T185119Z
LAST-MODIFIED:20260318T185119Z
UID:1635-1772618400-1775318400@armatv.org
SUMMARY:Fifth Annual Easter Egg Scavenger Hunt
DESCRIPTION:
URL:https://armatv.org/event/fifth-annual-easter-egg-scavenger-hunt/
LOCATION:Ward O’Hara Ag Museum\, 6880 NY-38A\, Auburn\, NY\, 13021\, United States
END:VEVENT
BEGIN:VEVENT
DTSTART;TZID=America/New_York:20260314T100000
DTEND;TZID=America/New_York:20260314T110000
DTSTAMP:20260423T133107
CREATED:20260206T175433Z
LAST-MODIFIED:20260206T175433Z
UID:1521-1773482400-1773486000@armatv.org
SUMMARY:Saturday Storytime
DESCRIPTION:
URL:https://armatv.org/event/saturday-storytime-3/
LOCATION:Seymour Library\, 176 Genesee St\, Auburn\, NY\, 13021
ATTACH;FMTTYPE=image/png:https://armatv.org/wp-content/uploads/2026/02/Saturday-Storytime-Feb-April-.png
END:VEVENT
BEGIN:VEVENT
DTSTART;TZID=America/New_York:20260314T130000
DTEND;TZID=America/New_York:20260314T140000
DTSTAMP:20260423T133107
CREATED:20260206T175130Z
LAST-MODIFIED:20260206T175130Z
UID:1515-1773493200-1773496800@armatv.org
SUMMARY:Saturday STEAM
DESCRIPTION:
URL:https://armatv.org/event/saturday-steam-2/
LOCATION:Seymour Library\, 176 Genesee St\, Auburn\, NY\, 13021
ATTACH;FMTTYPE=image/jpeg:https://armatv.org/wp-content/uploads/2026/02/Saturday-STEAM-March-2026.jpg
END:VEVENT
END:VCALENDAR