BEGIN:VCALENDAR
VERSION:2.0
PRODID:-//ARMA: Auburn Regional Media Access - ECPv6.15.17.1//NONSGML v1.0//EN
CALSCALE:GREGORIAN
METHOD:PUBLISH
X-ORIGINAL-URL:https://armatv.org
X-WR-CALDESC:Events for ARMA: Auburn Regional Media Access
REFRESH-INTERVAL;VALUE=DURATION:PT1H
X-Robots-Tag:noindex
X-PUBLISHED-TTL:PT1H
BEGIN:VTIMEZONE
TZID:America/New_York
BEGIN:DAYLIGHT
TZOFFSETFROM:-0500
TZOFFSETTO:-0400
TZNAME:EDT
DTSTART:20240310T070000
END:DAYLIGHT
BEGIN:STANDARD
TZOFFSETFROM:-0400
TZOFFSETTO:-0500
TZNAME:EST
DTSTART:20241103T060000
END:STANDARD
BEGIN:DAYLIGHT
TZOFFSETFROM:-0500
TZOFFSETTO:-0400
TZNAME:EDT
DTSTART:20250309T070000
END:DAYLIGHT
BEGIN:STANDARD
TZOFFSETFROM:-0400
TZOFFSETTO:-0500
TZNAME:EST
DTSTART:20251102T060000
END:STANDARD
BEGIN:DAYLIGHT
TZOFFSETFROM:-0500
TZOFFSETTO:-0400
TZNAME:EDT
DTSTART:20260308T070000
END:DAYLIGHT
BEGIN:STANDARD
TZOFFSETFROM:-0400
TZOFFSETTO:-0500
TZNAME:EST
DTSTART:20261101T060000
END:STANDARD
END:VTIMEZONE
BEGIN:VEVENT
DTSTART;TZID=America/New_York:20251105T160000
DTEND;TZID=America/New_York:20251112T170000
DTSTAMP:20260423T183811
CREATED:20251105T204003Z
LAST-MODIFIED:20251105T204003Z
UID:1292-1762358400-1762966800@armatv.org
SUMMARY:Tales with Trevor
DESCRIPTION:
URL:https://armatv.org/event/tales-with-trevor/
LOCATION:Seymour Library\, 176 Genesee St\, Auburn\, NY\, 13021
END:VEVENT
BEGIN:VEVENT
DTSTART;TZID=America/New_York:20251105T160000
DTEND;TZID=America/New_York:20251119T180000
DTSTAMP:20260423T183811
CREATED:20251105T203709Z
LAST-MODIFIED:20251105T203709Z
UID:1289-1762358400-1763575200@armatv.org
SUMMARY:Seymour Library Pokémon Club
DESCRIPTION:
URL:https://armatv.org/event/seymour-library-pokemon-club-2/
LOCATION:Seymour Library\, 176 Genesee St\, Auburn\, NY\, 13021
END:VEVENT
BEGIN:VEVENT
DTSTART;TZID=America/New_York:20251105T163000
DTEND;TZID=America/New_York:20251111T173000
DTSTAMP:20260423T183811
CREATED:20251105T204201Z
LAST-MODIFIED:20251105T204201Z
UID:1295-1762360200-1762882200@armatv.org
SUMMARY:Teen Night Zine
DESCRIPTION:
URL:https://armatv.org/event/teen-night-zine/
LOCATION:NY
ATTACH;FMTTYPE=image/png:https://armatv.org/wp-content/uploads/2025/11/Teen-Zine-Night-at-Seymour-Library.png
END:VEVENT
BEGIN:VEVENT
DTSTART;TZID=America/New_York:20251105T170000
DTEND;TZID=America/New_York:20251117T180000
DTSTAMP:20260423T183811
CREATED:20251105T204614Z
LAST-MODIFIED:20251105T204614Z
UID:1304-1762362000-1763402400@armatv.org
SUMMARY:LEGO Club: The Gruffalo
DESCRIPTION:
URL:https://armatv.org/event/lego-club-the-gruffalo/
LOCATION:NY
END:VEVENT
END:VCALENDAR